BEGIN:VCALENDAR
VERSION:2.0
PRODID:-//Wag Agility Club - ECPv6.15.20//NONSGML v1.0//EN
CALSCALE:GREGORIAN
METHOD:PUBLISH
X-ORIGINAL-URL:https://wagagility.com
X-WR-CALDESC:Events for Wag Agility Club
REFRESH-INTERVAL;VALUE=DURATION:PT1H
X-Robots-Tag:noindex
X-PUBLISHED-TTL:PT1H
BEGIN:VTIMEZONE
TZID:America/Chicago
BEGIN:DAYLIGHT
TZOFFSETFROM:-0600
TZOFFSETTO:-0500
TZNAME:CDT
DTSTART:20250309T080000
END:DAYLIGHT
BEGIN:STANDARD
TZOFFSETFROM:-0500
TZOFFSETTO:-0600
TZNAME:CST
DTSTART:20251102T070000
END:STANDARD
BEGIN:DAYLIGHT
TZOFFSETFROM:-0600
TZOFFSETTO:-0500
TZNAME:CDT
DTSTART:20260308T080000
END:DAYLIGHT
BEGIN:STANDARD
TZOFFSETFROM:-0500
TZOFFSETTO:-0600
TZNAME:CST
DTSTART:20261101T070000
END:STANDARD
BEGIN:DAYLIGHT
TZOFFSETFROM:-0600
TZOFFSETTO:-0500
TZNAME:CDT
DTSTART:20270314T080000
END:DAYLIGHT
BEGIN:STANDARD
TZOFFSETFROM:-0500
TZOFFSETTO:-0600
TZNAME:CST
DTSTART:20271107T070000
END:STANDARD
END:VTIMEZONE
BEGIN:VEVENT
DTSTART;VALUE=DATE:20260130
DTEND;VALUE=DATE:20260202
DTSTAMP:20260422T151842
CREATED:20161222T210909Z
LAST-MODIFIED:20260102T142633Z
UID:2790-1769731200-1769990399@wagagility.com
SUMMARY:WAG AKC Agility Trial - January 2026
DESCRIPTION:https://wagagility.com/events/akc-trials/
URL:https://wagagility.com/event/akc-trial-february-2021/
LOCATION:Wag Agility\, 2807 N US highway 12\, Spring Grove\, illinois
CATEGORIES:AKC Trial
END:VEVENT
BEGIN:VEVENT
DTSTART;TZID=America/Chicago:20260207T083000
DTEND;TZID=America/Chicago:20260207T140000
DTSTAMP:20260422T151842
CREATED:20231116T183014Z
LAST-MODIFIED:20260330T140912Z
UID:11162-1770453000-1770472800@wagagility.com
SUMMARY:WAG February Agility Fun Run
DESCRIPTION:https://wagagility.com/events/fun-runs/
URL:https://wagagility.com/event/wag-agility-fun-run-february-2024/
LOCATION:Wag Agility\, 2807 N US highway 12\, Spring Grove\, illinois
CATEGORIES:Agility Fun Runs
ORGANIZER;CN="Kelly Schumann":MAILTO:kcschu331@yahoo.com
END:VEVENT
BEGIN:VEVENT
DTSTART;VALUE=DATE:20260213
DTEND;VALUE=DATE:20260216
DTSTAMP:20260422T151842
CREATED:20181231T161032Z
LAST-MODIFIED:20260102T163548Z
UID:4746-1770940800-1771199999@wagagility.com
SUMMARY:NSDTRC (USA) AKC Agility Trial
DESCRIPTION:PLEASE DIRECT ALL QUESTIONS OR CONCERNS REGARDING THIS TRIAL TO NSDTRC (USA) http://nsdtrc-usa.org/contact/
URL:https://wagagility.com/event/fundog-cpe-agility-trial-2-2/
LOCATION:Wag Agility\, 2807 N US highway 12\, Spring Grove\, illinois
CATEGORIES:AKC Trial,Rental
END:VEVENT
BEGIN:VEVENT
DTSTART;VALUE=DATE:20260221
DTEND;VALUE=DATE:20260223
DTSTAMP:20260422T151842
CREATED:20190101T015503Z
LAST-MODIFIED:20260102T163851Z
UID:4762-1771632000-1771804799@wagagility.com
SUMMARY:RACE CPE Agility Trial - February
DESCRIPTION:PLEASE DIRECT ALL QUESTIONS OR CONCERNS REGARDING THIS TRIAL TO RACE AGILITY – mldawson52@gmail.com
URL:https://wagagility.com/event/race-cpe-agility-trial-february-2019/
LOCATION:Wag Agility\, 2807 N US highway 12\, Spring Grove\, illinois
CATEGORIES:CPE Trial,Rental
END:VEVENT
END:VCALENDAR